BEGIN:VCALENDAR
VERSION:2.0
PRODID:-//SONS Kladno - ECPv6.15.17.1//NONSGML v1.0//EN
CALSCALE:GREGORIAN
METHOD:PUBLISH
X-ORIGINAL-URL:https://www.sonskladno.cz
X-WR-CALDESC:Akce na SONS Kladno
REFRESH-INTERVAL;VALUE=DURATION:PT1H
X-Robots-Tag:noindex
X-PUBLISHED-TTL:PT1H
BEGIN:VTIMEZONE
TZID:Europe/Prague
BEGIN:DAYLIGHT
TZOFFSETFROM:+0100
TZOFFSETTO:+0200
TZNAME:CEST
DTSTART:20240331T010000
END:DAYLIGHT
BEGIN:STANDARD
TZOFFSETFROM:+0200
TZOFFSETTO:+0100
TZNAME:CET
DTSTART:20241027T010000
END:STANDARD
BEGIN:DAYLIGHT
TZOFFSETFROM:+0100
TZOFFSETTO:+0200
TZNAME:CEST
DTSTART:20250330T010000
END:DAYLIGHT
BEGIN:STANDARD
TZOFFSETFROM:+0200
TZOFFSETTO:+0100
TZNAME:CET
DTSTART:20251026T010000
END:STANDARD
BEGIN:DAYLIGHT
TZOFFSETFROM:+0100
TZOFFSETTO:+0200
TZNAME:CEST
DTSTART:20260329T010000
END:DAYLIGHT
BEGIN:STANDARD
TZOFFSETFROM:+0200
TZOFFSETTO:+0100
TZNAME:CET
DTSTART:20261025T010000
END:STANDARD
END:VTIMEZONE
BEGIN:VEVENT
DTSTART;TZID=Europe/Prague:20250902T160000
DTEND;TZID=Europe/Prague:20250902T170000
DTSTAMP:20260420T025045
CREATED:20250901T083320Z
LAST-MODIFIED:20250901T083320Z
UID:1105-1756828800-1756832400@www.sonskladno.cz
SUMMARY:Oblastního shromáždění
DESCRIPTION:02. 09. – úterý\, 16:00 hodin\, Hotel Kladno\, náměstí Sítná 3113\nZasedání Oblastního shromáždění
URL:https://www.sonskladno.cz/event/oblastniho-shromazdeni/
LOCATION:Hotel Kladno\, náměstí Sítná 3113\, Kladno\, Středočeský\, 27201\, Česká republika
CATEGORIES:Oblastní shromáždění
ATTACH;FMTTYPE=image/jpeg:https://www.sonskladno.cz/wp-content/uploads/2023/12/IMG_7973-scaled.jpg
ORGANIZER;CN="SONS Kladno":MAILTO:kladno-odbocka@sons.cz
END:VEVENT
END:VCALENDAR