BEGIN:VCALENDAR
VERSION:2.0
PRODID:-//SONS Kladno - ECPv6.15.20//NONSGML v1.0//EN
CALSCALE:GREGORIAN
METHOD:PUBLISH
X-WR-CALNAME:SONS Kladno
X-ORIGINAL-URL:https://www.sonskladno.cz
X-WR-CALDESC:Akce na SONS Kladno
REFRESH-INTERVAL;VALUE=DURATION:PT1H
X-Robots-Tag:noindex
X-PUBLISHED-TTL:PT1H
BEGIN:VTIMEZONE
TZID:Europe/Prague
BEGIN:DAYLIGHT
TZOFFSETFROM:+0100
TZOFFSETTO:+0200
TZNAME:CEST
DTSTART:20220327T010000
END:DAYLIGHT
BEGIN:STANDARD
TZOFFSETFROM:+0200
TZOFFSETTO:+0100
TZNAME:CET
DTSTART:20221030T010000
END:STANDARD
BEGIN:DAYLIGHT
TZOFFSETFROM:+0100
TZOFFSETTO:+0200
TZNAME:CEST
DTSTART:20230326T010000
END:DAYLIGHT
BEGIN:STANDARD
TZOFFSETFROM:+0200
TZOFFSETTO:+0100
TZNAME:CET
DTSTART:20231029T010000
END:STANDARD
BEGIN:DAYLIGHT
TZOFFSETFROM:+0100
TZOFFSETTO:+0200
TZNAME:CEST
DTSTART:20240331T010000
END:DAYLIGHT
BEGIN:STANDARD
TZOFFSETFROM:+0200
TZOFFSETTO:+0100
TZNAME:CET
DTSTART:20241027T010000
END:STANDARD
END:VTIMEZONE
BEGIN:VEVENT
DTSTART;TZID=Europe/Prague:20231123T140000
DTEND;TZID=Europe/Prague:20231123T170000
DTSTAMP:20260422T235039
CREATED:20230731T110355Z
LAST-MODIFIED:20231122T173741Z
UID:309-1700748000-1700758800@www.sonskladno.cz
SUMMARY:Beseda s Ing. Josefem Purkrtem - PŘESUNUTO NA ROK 2024
DESCRIPTION:ZE ZDRAVOTNÍCH A OSOBNÍCH DŮVODŮ JE TATO AKCE PŘESUNUTA NA ROK 2024\, PŘESNÝ TERMÍN BUDE UPŘESNĚN. \n23.11.2023(čtvrtek) od 14:00 hod. beseda s Ing. Josefem Purkrtem\, předsedou záhadologického spolku FFC\,z.s.
URL:https://www.sonskladno.cz/event/beseda-s-ing-josefem-purkrtem/
LOCATION:SONS Kladno\, Hřebečská 2678\, Kladno\, Středočeský\, 27201\, Česká republika
CATEGORIES:Akce
ATTACH;FMTTYPE=image/jpeg:https://www.sonskladno.cz/wp-content/uploads/2023/07/2023-02-Beseda-o-Turkmenistanu-scaled.jpg
ORGANIZER;CN="SONS Kladno":MAILTO:kladno-odbocka@sons.cz
END:VEVENT
BEGIN:VEVENT
DTSTART;TZID=Europe/Prague:20231106T100000
DTEND;TZID=Europe/Prague:20231106T150000
DTSTAMP:20260422T235039
CREATED:20231024T115536Z
LAST-MODIFIED:20231024T115915Z
UID:305-1699264800-1699282800@www.sonskladno.cz
SUMMARY:Den otevřených dveří
DESCRIPTION:Program: povídání se členy odbočky\, seznámení s činností odbočky\, možnost vyzkoušení chůze s bílou holí\, ukázka kompenzačních pomůcek pro nevidomé a slabozraké \nPřijďte\, těšíme se na Vás!
URL:https://www.sonskladno.cz/event/den-otevrenych-dveri/
LOCATION:SONS Kladno\, Hřebečská 2678\, Kladno\, Středočeský\, 27201\, Česká republika
CATEGORIES:Akce
ATTACH;FMTTYPE=image/jpeg:https://www.sonskladno.cz/wp-content/uploads/2023/10/20231016_085943-scaled.jpg
ORGANIZER;CN="SONS Kladno":MAILTO:kladno-odbocka@sons.cz
END:VEVENT
BEGIN:VEVENT
DTSTART;VALUE=DATE:20231021
DTEND;VALUE=DATE:20231022
DTSTAMP:20260422T235039
CREATED:20230731T105834Z
LAST-MODIFIED:20231018T125055Z
UID:302-1697846400-1697932799@www.sonskladno.cz
SUMMARY:ZRUŠENO: Praha - Petřín
DESCRIPTION:UDÁLOST PRO NEPŘÍZEŃ POČASI BYLA ZRUŠENA. \n21.10.2023 (sobota) – jednodenní výlet Praha Petřín \nSraz v 9:00 na zastávce Nádraží Veleslavín. \nV případě nepříznivého počasí bude akce zrušena.
URL:https://www.sonskladno.cz/event/praha-petrin/
LOCATION:Středočeský
CATEGORIES:Akce
ATTACH;FMTTYPE=image/jpeg:https://www.sonskladno.cz/wp-content/uploads/2023/07/vrch-petrin.jpg
ORGANIZER;CN="SONS Kladno":MAILTO:kladno-odbocka@sons.cz
END:VEVENT
BEGIN:VEVENT
DTSTART;VALUE=DATE:20231009
DTEND;VALUE=DATE:20231012
DTSTAMP:20260422T235039
CREATED:20230731T104444Z
LAST-MODIFIED:20230731T104444Z
UID:300-1696809600-1697068799@www.sonskladno.cz
SUMMARY:sbírka Bílá Pastelka
DESCRIPTION:V tyto dny bude probíhat sbírka Bílá pastelka.
URL:https://www.sonskladno.cz/event/sbirka-bila-pastelka/
LOCATION:Středočeský
CATEGORIES:Akce
ATTACH;FMTTYPE=image/jpeg:https://www.sonskladno.cz/wp-content/uploads/2023/07/BILA-PASTELKA-scaled.jpg
ORGANIZER;CN="SONS Kladno":MAILTO:kladno-odbocka@sons.cz
END:VEVENT
BEGIN:VEVENT
DTSTART;TZID=Europe/Prague:20231007T140000
DTEND;TZID=Europe/Prague:20231007T160000
DTSTAMP:20260422T235039
CREATED:20231003T095953Z
LAST-MODIFIED:20231003T095953Z
UID:396-1696687200-1696694400@www.sonskladno.cz
SUMMARY:Zvuková střelba
DESCRIPTION:Dovoluji si upozornit vás na první říjnovou akci\, kterou je zvuková střelba již tuto sobotu 7. října. Začátek je tradičně od 14:00 hodin\, ale odbočka bude otevřena již od 13:00 hodin. Zvukovou střelbu pro nás opět zajistí pan Tomáš Trnka\, který přiveze vybavení a bude se věnovat každému\, kdo bude potřebovat zaučit. \nTěšíme se na vás\, přijďte klidně i jen posedět u čaje\, kávy a podpořit ty\, kdo se střelby účastní.
URL:https://www.sonskladno.cz/event/zvukova-strelba/
LOCATION:SONS Kladno\, Hřebečská 2678\, Kladno\, Středočeský\, 27201\, Česká republika
CATEGORIES:Akce
ATTACH;FMTTYPE=image/jpeg:https://www.sonskladno.cz/wp-content/uploads/2023/10/P2050151.jpg
ORGANIZER;CN="SONS Kladno":MAILTO:kladno-odbocka@sons.cz
END:VEVENT
BEGIN:VEVENT
DTSTART;VALUE=DATE:20230916
DTEND;VALUE=DATE:20230917
DTSTAMP:20260422T235039
CREATED:20230731T104259Z
LAST-MODIFIED:20230731T104259Z
UID:297-1694822400-1694908799@www.sonskladno.cz
SUMMARY:Poděbrady
DESCRIPTION:jednodenní výlet do Poděbrad\, navštívíme Polabské muzeum a pivovar\, odjezd od sídla odbočky v 8:00 hod\, příjezd cca v16:00 hod.
URL:https://www.sonskladno.cz/event/podebrady/
LOCATION:Středočeský
CATEGORIES:Akce
ATTACH;FMTTYPE=image/jpeg:https://www.sonskladno.cz/wp-content/uploads/2023/07/pivovarpodebrady.jpeg
ORGANIZER;CN="SONS Kladno":MAILTO:kladno-odbocka@sons.cz
END:VEVENT
BEGIN:VEVENT
DTSTART;VALUE=DATE:20230729
DTEND;VALUE=DATE:20230806
DTSTAMP:20260422T235039
CREATED:20230704T062645Z
LAST-MODIFIED:20230704T062645Z
UID:206-1690588800-1691279999@www.sonskladno.cz
SUMMARY:Rekondiční pobyt
DESCRIPTION:Informace o rekondičním pobytu.
URL:https://www.sonskladno.cz/event/rekondicni-pobyt/
LOCATION:Středočeský
CATEGORIES:Akce
ATTACH;FMTTYPE=image/jpeg:https://www.sonskladno.cz/wp-content/uploads/2023/07/P7080705.jpg
ORGANIZER;CN="SONS Kladno":MAILTO:kladno-odbocka@sons.cz
END:VEVENT
END:VCALENDAR