BEGIN:VCALENDAR
VERSION:2.0
PRODID:-//SONS Kladno - ECPv6.15.17.1//NONSGML v1.0//EN
CALSCALE:GREGORIAN
METHOD:PUBLISH
X-ORIGINAL-URL:https://www.sonskladno.cz
X-WR-CALDESC:Akce na SONS Kladno
REFRESH-INTERVAL;VALUE=DURATION:PT1H
X-Robots-Tag:noindex
X-PUBLISHED-TTL:PT1H
BEGIN:VTIMEZONE
TZID:Europe/Prague
BEGIN:DAYLIGHT
TZOFFSETFROM:+0100
TZOFFSETTO:+0200
TZNAME:CEST
DTSTART:20220327T010000
END:DAYLIGHT
BEGIN:STANDARD
TZOFFSETFROM:+0200
TZOFFSETTO:+0100
TZNAME:CET
DTSTART:20221030T010000
END:STANDARD
BEGIN:DAYLIGHT
TZOFFSETFROM:+0100
TZOFFSETTO:+0200
TZNAME:CEST
DTSTART:20230326T010000
END:DAYLIGHT
BEGIN:STANDARD
TZOFFSETFROM:+0200
TZOFFSETTO:+0100
TZNAME:CET
DTSTART:20231029T010000
END:STANDARD
BEGIN:DAYLIGHT
TZOFFSETFROM:+0100
TZOFFSETTO:+0200
TZNAME:CEST
DTSTART:20240331T010000
END:DAYLIGHT
BEGIN:STANDARD
TZOFFSETFROM:+0200
TZOFFSETTO:+0100
TZNAME:CET
DTSTART:20241027T010000
END:STANDARD
BEGIN:DAYLIGHT
TZOFFSETFROM:+0100
TZOFFSETTO:+0200
TZNAME:CEST
DTSTART:20250330T010000
END:DAYLIGHT
BEGIN:STANDARD
TZOFFSETFROM:+0200
TZOFFSETTO:+0100
TZNAME:CET
DTSTART:20251026T010000
END:STANDARD
END:VTIMEZONE
BEGIN:VEVENT
DTSTART;TZID=Europe/Prague:20241216T150000
DTEND;TZID=Europe/Prague:20241216T160000
DTSTAMP:20260420T024756
CREATED:20240902T190208Z
LAST-MODIFIED:20241103T072007Z
UID:665-1734361200-1734364800@www.sonskladno.cz
SUMMARY:Trénink paměti s paní Terezou Cimburkovou
DESCRIPTION:Vážení přátelé\, \nzveme vás na poslední letošní trénink paměti. \nTěšíme se na viděnou.
URL:https://www.sonskladno.cz/event/trenink-pameti-s-pani-terezou-cimburkovou-8/
LOCATION:SONS Kladno\, Hřebečská 2678\, Kladno\, Středočeský\, 27201\, Česká republika
CATEGORIES:Akce
ATTACH;FMTTYPE=image/jpeg:https://www.sonskladno.cz/wp-content/uploads/2024/09/IMG_2862-scaled.jpg
ORGANIZER;CN="SONS Kladno":MAILTO:kladno-odbocka@sons.cz
END:VEVENT
BEGIN:VEVENT
DTSTART;TZID=Europe/Prague:20241206T170000
DTEND;TZID=Europe/Prague:20241206T220000
DTSTAMP:20260420T024756
CREATED:20240722T141832Z
LAST-MODIFIED:20240722T141832Z
UID:617-1733504400-1733522400@www.sonskladno.cz
SUMMARY:Mikulášská zábava
DESCRIPTION:Mikulášská zábava\, vstupné 50\,- Kč
URL:https://www.sonskladno.cz/event/mikulasska-zabava/
LOCATION:Pivnice u Matěje\, Hřeběčská 2716\, Kladno\, Středočeský\, 27201\, Česká republika
CATEGORIES:Akce
ATTACH;FMTTYPE=image/webp:https://www.sonskladno.cz/wp-content/uploads/2024/07/IMG_8124-scaled.webp
ORGANIZER;CN="SONS Kladno":MAILTO:kladno-odbocka@sons.cz
END:VEVENT
BEGIN:VEVENT
DTSTART;TZID=Europe/Prague:20241128T140000
DTEND;TZID=Europe/Prague:20241128T170000
DTSTAMP:20260420T024756
CREATED:20240722T141535Z
LAST-MODIFIED:20240722T141535Z
UID:615-1732802400-1732813200@www.sonskladno.cz
SUMMARY:Dušičkové posezení
DESCRIPTION:Dušičkové posezení
URL:https://www.sonskladno.cz/event/dusickove-posezeni/
LOCATION:SONS Kladno\, Hřebečská 2678\, Kladno\, Středočeský\, 27201\, Česká republika
CATEGORIES:Akce
ATTACH;FMTTYPE=image/jpeg:https://www.sonskladno.cz/wp-content/uploads/2024/02/IMG_8179-scaled.jpg
ORGANIZER;CN="SONS Kladno":MAILTO:kladno-odbocka@sons.cz
END:VEVENT
BEGIN:VEVENT
DTSTART;TZID=Europe/Prague:20241125T150000
DTEND;TZID=Europe/Prague:20241125T170000
DTSTAMP:20260420T024756
CREATED:20240722T141356Z
LAST-MODIFIED:20240722T141356Z
UID:613-1732546800-1732554000@www.sonskladno.cz
SUMMARY:Trénink paměti s paní Terezou Cimburkovou
DESCRIPTION:Trénink paměti s paní Terezou Cimburkovou
URL:https://www.sonskladno.cz/event/trenink-pameti-s-pani-terezou-cimburkovou-7/
LOCATION:SONS Kladno\, Hřebečská 2678\, Kladno\, Středočeský\, 27201\, Česká republika
CATEGORIES:Akce
ATTACH;FMTTYPE=image/webp:https://www.sonskladno.cz/wp-content/uploads/2024/03/IMG_8467-scaled.webp
ORGANIZER;CN="SONS Kladno":MAILTO:kladno-odbocka@sons.cz
END:VEVENT
BEGIN:VEVENT
DTSTART;TZID=Europe/Prague:20241116T100000
DTEND;TZID=Europe/Prague:20241116T170000
DTSTAMP:20260420T024756
CREATED:20240722T141241Z
LAST-MODIFIED:20241022T082739Z
UID:611-1731751200-1731776400@www.sonskladno.cz
SUMMARY:Den nevidomých
DESCRIPTION:Vážení přátelé\, \ninformujeme vás o konání Dne nevidomých\, slavnostního zasedání Oblastního shromáždění naší organizace\, které proběhne v sobotu 16. listopadu 2024 od 10:00 do přibližně 14:00 hodin v Hotelu Kladno\, Náměstí Sítná 3113\, Kladno. Hosty letošního Dne nevidomých budou tajemník Magistrátu města Kladna pan Ing. Zdeněk Slepička a oficiální záležitosti programu nám svou hudební a mluvenou tvorbou zpříjemní pan Jan Beran.  \nBližší informace obdrží členové v pozvánce.
URL:https://www.sonskladno.cz/event/den-nevidomych-2/
LOCATION:Hotel Kladno\, náměstí Sítná 3113\, Kladno\, Středočeský\, 27201\, Česká republika
CATEGORIES:Akce
ATTACH;FMTTYPE=image/jpeg:https://www.sonskladno.cz/wp-content/uploads/2024/02/IMG_7969-scaled.jpg
ORGANIZER;CN="SONS Kladno":MAILTO:kladno-odbocka@sons.cz
END:VEVENT
BEGIN:VEVENT
DTSTART;TZID=Europe/Prague:20241104T110000
DTEND;TZID=Europe/Prague:20241104T140000
DTSTAMP:20260420T024756
CREATED:20241021T174621Z
LAST-MODIFIED:20241021T174621Z
UID:853-1730718000-1730728800@www.sonskladno.cz
SUMMARY:Den otevřených dveří
DESCRIPTION:Sjednocená organizace nevidomých a slabozrakých ČR\, z. s. Oblastní odbočka Kladno \nzve všechny\, kteří se chtějí seznámit s životem nevidomých\, slabozrakých a jinak zrakově hendikepovaných osob na tradiční \nDEN OTEVŘENÝCH DVEŘÍ \nTermín akce: 4. listopadu 2024 od 11:00 do 14:00 hodin \nKde: sídlo odbočky Hřebečská 2678\, 272 01 Kladno \nProgram: povídání se členy odbočky\, seznámení s činností odbočky\, možnost vyzkoušení chůze s bílou holí\, ukázka kompenzačních pomůcek pro nevidomé a slabozraké \nPřijďte\, těšíme se na Vás! \nPlakát k akci v pdf ke stažení
URL:https://www.sonskladno.cz/event/den-otevrenych-dveri-2/
LOCATION:SONS Kladno\, Hřebečská 2678\, Kladno\, Středočeský\, 27201\, Česká republika
CATEGORIES:Akce
ATTACH;FMTTYPE=image/jpeg:https://www.sonskladno.cz/wp-content/uploads/2023/10/20231016_085943-scaled.jpg
ORGANIZER;CN="SONS Kladno":MAILTO:kladno-odbocka@sons.cz
END:VEVENT
BEGIN:VEVENT
DTSTART;TZID=Europe/Prague:20241021T150000
DTEND;TZID=Europe/Prague:20241021T170000
DTSTAMP:20260420T024756
CREATED:20240722T141031Z
LAST-MODIFIED:20240902T185922Z
UID:609-1729522800-1729530000@www.sonskladno.cz
SUMMARY:Trénink paměti s paní Terezou Cimburkovou
DESCRIPTION:Trénink paměti s paní Terezou Cimburkovou
URL:https://www.sonskladno.cz/event/trenink-pameti-s-pani-terezou-cimburkovou-6/
LOCATION:SONS Kladno\, Hřebečská 2678\, Kladno\, Středočeský\, 27201\, Česká republika
CATEGORIES:Akce
ATTACH;FMTTYPE=image/webp:https://www.sonskladno.cz/wp-content/uploads/2024/03/IMG_8467-scaled.webp
ORGANIZER;CN="SONS Kladno":MAILTO:kladno-odbocka@sons.cz
END:VEVENT
BEGIN:VEVENT
DTSTART;VALUE=DATE:20241014
DTEND;VALUE=DATE:20241017
DTSTAMP:20260420T024756
CREATED:20240722T140528Z
LAST-MODIFIED:20240902T190342Z
UID:604-1728864000-1729123199@www.sonskladno.cz
SUMMARY:Sbírkové dny Bílé pastelky
DESCRIPTION:
URL:https://www.sonskladno.cz/event/sbirka-bila-pastelka-2/
LOCATION:SONS Kladno\, Hřebečská 2678\, Kladno\, Středočeský\, 27201\, Česká republika
CATEGORIES:Akce
ATTACH;FMTTYPE=image/webp:https://www.sonskladno.cz/wp-content/uploads/2024/07/20273_Bila_pastelka_Logo_2024_final-7.webp
ORGANIZER;CN="SONS Kladno":MAILTO:kladno-odbocka@sons.cz
END:VEVENT
BEGIN:VEVENT
DTSTART;TZID=Europe/Prague:20241007T150000
DTEND;TZID=Europe/Prague:20241007T170000
DTSTAMP:20260420T024756
CREATED:20240928T121748Z
LAST-MODIFIED:20240928T121748Z
UID:820-1728313200-1728320400@www.sonskladno.cz
SUMMARY:Beseda s paní Terezou Cimburkovou a paní Agnes Karchňákovou
DESCRIPTION:Beseda s paní Terezou Cimburkovou a paní Agnes Karchňákovou na téma činnosti organizace Člověk v tísni. \nBeseda může být velice přínosná nejen pro ty\, kdo uvítají pomoc při nutné komunikaci s poskytovateli mnoha služeb (dodavatelé energií\, mobilní operátoři\, banky\, pojišťovny a další)\, ale i pro ostatní v rámci všeobecné povědomosti a možnosti předání informací potřebným.
URL:https://www.sonskladno.cz/event/beseda-s-pani-terezou-cimburkovou-a-pani-agnes-karchnakovou/
LOCATION:SONS Kladno\, Hřebečská 2678\, Kladno\, Středočeský\, 27201\, Česká republika
CATEGORIES:Akce
ATTACH;FMTTYPE=image/webp:https://www.sonskladno.cz/wp-content/uploads/2024/09/IMG_9008-scaled.webp
ORGANIZER;CN="SONS Kladno":MAILTO:kladno-odbocka@sons.cz
END:VEVENT
BEGIN:VEVENT
DTSTART;TZID=Europe/Prague:20240930T150000
DTEND;TZID=Europe/Prague:20240930T170000
DTSTAMP:20260420T024756
CREATED:20240722T140151Z
LAST-MODIFIED:20240722T140151Z
UID:600-1727708400-1727715600@www.sonskladno.cz
SUMMARY:Trénink paměti s paní Terezou Cimburkovou
DESCRIPTION:Trénink paměti s paní Terezou Cimburkovou
URL:https://www.sonskladno.cz/event/trenink-pameti-s-pani-terezou-cimburkovou-5/
LOCATION:SONS Kladno\, Hřebečská 2678\, Kladno\, Středočeský\, 27201\, Česká republika
CATEGORIES:Akce
ATTACH;FMTTYPE=image/webp:https://www.sonskladno.cz/wp-content/uploads/2024/03/IMG_8467-scaled.webp
ORGANIZER;CN="SONS Kladno":MAILTO:kladno-odbocka@sons.cz
END:VEVENT
BEGIN:VEVENT
DTSTART;VALUE=DATE:20240913
DTEND;VALUE=DATE:20240916
DTSTAMP:20260420T024756
CREATED:20240722T135957Z
LAST-MODIFIED:20240902T185447Z
UID:596-1726185600-1726444799@www.sonskladno.cz
SUMMARY:Třídenní pobytový zájezd Klatovy
DESCRIPTION:Informace o akci \n Název akce: Třídenní pobytový zájezd do Klatov \n Datum a čas konání: pátek 13. září 2024 – neděle 15. září 2024 \n Místo konání: Klatovy\, ubytování Wellness hotel Centrál ***\, Masarykova 300/II\, 339 01 Klatovy \n Cena zájezdu: 2.500\,- Kč / člen\, 2500\,- Kč + 21% DPH (3025\,- Kč) nečlen \n Poplatek je nevratný\, pokud účastník zruší svoji účast méně než 10 dní před termínem konání akce. \n Organizační informace \n\nOdjezd do Klatov v pátek 13. 9. 2024 bude jako vždy od sídla odbočky\, čas odjezdu v 10:00 hodin\, dostavte se pokud možno v 9:30 až 9:45 hodin.\nOdjezd z Klatov v neděli 15. 9. 2024 po snídani v 9:00 – 9:30 hodin.\nObě cesty jsou bez kulturní akce.\n\nOficiální program nebude připraven\, cílem zájezdu je umožnit všem fyzickou a duševní relaxaci\, pro což má prostředí hotelu ideální podmínky. Město Klatovy pak nabízí možnosti pro kulturní a společenské vyžití. \nInformace k ceně zájezdu \nCena za osobu ve dvoulůžkovém a třílůžkovém pokoji je po domluvě s ubytovacím zařízením 1.100\,- Kč / noc. \nV ceně zájezdu je: \n\n2 x ubytování\n2 x snídaně – bufetovou formou\n2 x oběd – výběr z MENU – 2 chody\n2 x večeře – výběr z MENU – 2 chody\n\n+ WELLNESS BALÍČEK ZDARMA: \n\nbazén vnitřní po dobu pobytu\nsauna finská a solná po dobu pobytu\nsluneční lázeň pod paprsky hřejivého slunce pro dva 1 x za pobyt\n\nDoprava: 300\,- Kč / osoba
URL:https://www.sonskladno.cz/event/tridenni-pobytovy-zajezd-klatovy/
LOCATION:Hotel Centrál\, Masarykova 300/II\, Klatovy\, 339 01\, Česká republika
CATEGORIES:Akce
ATTACH;FMTTYPE=image/webp:https://www.sonskladno.cz/wp-content/uploads/2024/07/Klatovy-central.webp
ORGANIZER;CN="SONS Kladno":MAILTO:kladno-odbocka@sons.cz
END:VEVENT
BEGIN:VEVENT
DTSTART;VALUE=DATE:20240720
DTEND;VALUE=DATE:20240728
DTSTAMP:20260420T024756
CREATED:20240306T134749Z
LAST-MODIFIED:20240306T134749Z
UID:523-1721433600-1722124799@www.sonskladno.cz
SUMMARY:Rekondiční pobyt
DESCRIPTION:Každoroční rekondiční pobyt SONS Kladno. \nInformace bude dále upřesněna.
URL:https://www.sonskladno.cz/event/rekondicni-pobyt-2/
LOCATION:Zotavovna Pracov\, Radimovice u Želče 118\, Tábor\, 390 02\, Česká republika
CATEGORIES:Akce
ATTACH;FMTTYPE=image/webp:https://www.sonskladno.cz/wp-content/uploads/2024/03/zotavovna-Pracov.webp
ORGANIZER;CN="SONS Kladno":MAILTO:kladno-odbocka@sons.cz
END:VEVENT
BEGIN:VEVENT
DTSTART;TZID=Europe/Prague:20240624T150000
DTEND;TZID=Europe/Prague:20240624T170000
DTSTAMP:20260420T024756
CREATED:20240307T071112Z
LAST-MODIFIED:20240307T071112Z
UID:540-1719241200-1719248400@www.sonskladno.cz
SUMMARY:Trénink paměti s paní Terezou Cimburkovou
DESCRIPTION:Trénink paměti s paní Terezou Cimburkovou ze Středočeské vědecké knihovny v Kladně
URL:https://www.sonskladno.cz/event/trenink-pameti-s-pani-terezou-cimburkovou-4/
LOCATION:SONS Kladno\, Hřebečská 2678\, Kladno\, Středočeský\, 27201\, Česká republika
CATEGORIES:Akce
ATTACH;FMTTYPE=image/webp:https://www.sonskladno.cz/wp-content/uploads/2024/03/IMG_8467-scaled.webp
ORGANIZER;CN="SONS Kladno":MAILTO:kladno-odbocka@sons.cz
END:VEVENT
BEGIN:VEVENT
DTSTART;VALUE=DATE:20240622
DTEND;VALUE=DATE:20240623
DTSTAMP:20260420T024756
CREATED:20240307T070603Z
LAST-MODIFIED:20240307T071235Z
UID:535-1719014400-1719100799@www.sonskladno.cz
SUMMARY:Výlet do areálu Čapí hnízdo
DESCRIPTION:Výlet do areálu Čapí hnízdo\, domluvena prohlídka Ekocentra v 10:00 hodin\, oběd\, odjezd od sídla odbočky v 8:00 hodin\, cena 300\,- Kč \nPodrobné informace k výletu ke stažení zde.
URL:https://www.sonskladno.cz/event/vylet-do-arealu-capi-hnizdo/
LOCATION:Čapí hnízdo\, Dvůr Semtín 1\, Olbramovice\, 259 01\, Česká republika
CATEGORIES:Akce
ATTACH;FMTTYPE=image/webp:https://www.sonskladno.cz/wp-content/uploads/2024/03/capi_hnizdo-scaled.webp
ORGANIZER;CN="SONS Kladno":MAILTO:kladno-odbocka@sons.cz
END:VEVENT
BEGIN:VEVENT
DTSTART;TZID=Europe/Prague:20240527T150000
DTEND;TZID=Europe/Prague:20240527T170000
DTSTAMP:20260420T024756
CREATED:20240307T065522Z
LAST-MODIFIED:20240307T065522Z
UID:531-1716822000-1716829200@www.sonskladno.cz
SUMMARY:Trénink paměti s paní Terezou Cimburkovou
DESCRIPTION:Trénink paměti s paní Terezou Cimburkovou ze Středočeské vědecké knihovny v Kladně
URL:https://www.sonskladno.cz/event/trenink-pameti-s-pani-terezou-cimburkovou-3/
LOCATION:SONS Kladno\, Hřebečská 2678\, Kladno\, Středočeský\, 27201\, Česká republika
CATEGORIES:Akce
ATTACH;FMTTYPE=image/webp:https://www.sonskladno.cz/wp-content/uploads/2024/03/IMG_8467-scaled.webp
ORGANIZER;CN="SONS Kladno":MAILTO:kladno-odbocka@sons.cz
END:VEVENT
BEGIN:VEVENT
DTSTART;TZID=Europe/Prague:20240523T140000
DTEND;TZID=Europe/Prague:20240523T170000
DTSTAMP:20260420T024756
CREATED:20240307T065312Z
LAST-MODIFIED:20240307T065312Z
UID:529-1716472800-1716483600@www.sonskladno.cz
SUMMARY:Beseda s Ing. Josefem Purkrtem
DESCRIPTION:Beseda s Ing. Josefem Purkrtem\, předsedou záhadologického spolku FFC\, z. s.
URL:https://www.sonskladno.cz/event/beseda-s-ing-josefem-purkrtem-2/
LOCATION:SONS Kladno\, Hřebečská 2678\, Kladno\, Středočeský\, 27201\, Česká republika
CATEGORIES:Akce
ATTACH;FMTTYPE=image/jpeg:https://www.sonskladno.cz/wp-content/uploads/2024/02/IMG_8179-scaled.jpg
ORGANIZER;CN="SONS Kladno":MAILTO:kladno-odbocka@sons.cz
END:VEVENT
BEGIN:VEVENT
DTSTART;TZID=Europe/Prague:20240429T150000
DTEND;TZID=Europe/Prague:20240429T170000
DTSTAMP:20260420T024756
CREATED:20240306T100849Z
LAST-MODIFIED:20240306T100849Z
UID:514-1714402800-1714410000@www.sonskladno.cz
SUMMARY:Trénink paměti s paní Terezou Cimburkovou
DESCRIPTION:Trénink paměti s paní Terezou Cimburkovou.
URL:https://www.sonskladno.cz/event/trenink-pameti-s-pani-terezou-cimburkovou-2/
LOCATION:SONS Kladno\, Hřebečská 2678\, Kladno\, Středočeský\, 27201\, Česká republika
CATEGORIES:Akce
ATTACH;FMTTYPE=image/webp:https://www.sonskladno.cz/wp-content/uploads/2024/03/IMG_8467-scaled.webp
ORGANIZER;CN="SONS Kladno":MAILTO:kladno-odbocka@sons.cz
END:VEVENT
BEGIN:VEVENT
DTSTART;TZID=Europe/Prague:20240428T140000
DTEND;TZID=Europe/Prague:20240428T170000
DTSTAMP:20260420T024756
CREATED:20240306T115625Z
LAST-MODIFIED:20240306T115625Z
UID:516-1714312800-1714323600@www.sonskladno.cz
SUMMARY:Bowling
DESCRIPTION:28. 04. – neděle\, 14:00 – 16:00 hodin\, Kantýna POLDI\, Petra Bezruče 3388\, Kladno – Central Kladno \nBOWLING – rezervovány dráhy 8\, 9 a 10 a místa k sezení pro odpočinek
URL:https://www.sonskladno.cz/event/bowling-2/
LOCATION:Kantýna Poldi\, Petra Bezruče 3388\, Kladno\, Středočeský\, 27201\, Česká republika
CATEGORIES:Akce
ATTACH;FMTTYPE=image/webp:https://www.sonskladno.cz/wp-content/uploads/2024/03/IMG_8281-scaled.webp
ORGANIZER;CN="SONS Kladno":MAILTO:kladno-odbocka@sons.cz
END:VEVENT
BEGIN:VEVENT
DTSTART;TZID=Europe/Prague:20240425T140000
DTEND;TZID=Europe/Prague:20240425T160000
DTSTAMP:20260420T024756
CREATED:20240306T100736Z
LAST-MODIFIED:20240307T071318Z
UID:512-1714053600-1714060800@www.sonskladno.cz
SUMMARY:Beseda\, host Mgr. et Mgr. Gabriela Havlůjová
DESCRIPTION:Tentokrát k nám paní Havlůjová zavítá s přednáškou na téma – Sportovní odívání v 19. – 21. století / výstava v Paříži 2024.
URL:https://www.sonskladno.cz/event/beseda-host-mgr-et-mgr-gabriela-havlujova/
LOCATION:SONS Kladno\, Hřebečská 2678\, Kladno\, Středočeský\, 27201\, Česká republika
CATEGORIES:Akce
ATTACH;FMTTYPE=image/jpeg:https://www.sonskladno.cz/wp-content/uploads/2024/02/IMG_8179-scaled.jpg
ORGANIZER;CN="SONS Kladno":MAILTO:kladno-odbocka@sons.cz
END:VEVENT
BEGIN:VEVENT
DTSTART;TZID=Europe/Prague:20240406T140000
DTEND;TZID=Europe/Prague:20240406T170000
DTSTAMP:20260420T024756
CREATED:20240306T100613Z
LAST-MODIFIED:20240306T100613Z
UID:510-1712412000-1712422800@www.sonskladno.cz
SUMMARY:Sportovní odpoledne - Showdown
DESCRIPTION:Sportovní odpoledne u stolního tenisu pro nevidomé – showdown
URL:https://www.sonskladno.cz/event/sportovni-odpoledne-showdown/
LOCATION:SONS Kladno\, Hřebečská 2678\, Kladno\, Středočeský\, 27201\, Česká republika
CATEGORIES:Akce
ATTACH;FMTTYPE=image/jpeg:https://www.sonskladno.cz/wp-content/uploads/2023/07/04_showdown27022010.jpg
ORGANIZER;CN="SONS Kladno":MAILTO:kladno-odbocka@sons.cz
END:VEVENT
BEGIN:VEVENT
DTSTART;TZID=Europe/Prague:20240328T140000
DTEND;TZID=Europe/Prague:20240328T160000
DTSTAMP:20260420T024756
CREATED:20240210T083606Z
LAST-MODIFIED:20240214T074443Z
UID:499-1711634400-1711641600@www.sonskladno.cz
SUMMARY:Velikonoční tvořivé posezení
DESCRIPTION:Začíná: 29.02.2024 14:00 \nVážení přátelé\, \n\nsrdečně vás zveme na tradiční velikonoční posezení\, tentokrát bude spojené s kreativní tvorbou velikonoční dekorace. \nVše potřebné pro tvoření pro vás připravíme. Komu se bude chtít\, může s sebou přinést něco dobrého k čaji a kávě. \nTěšíme se na vás :-).
URL:https://www.sonskladno.cz/event/velikonocni-tvorive-posezeni/
LOCATION:SONS Kladno\, Hřebečská 2678\, Kladno\, Středočeský\, 27201\, Česká republika
CATEGORIES:Akce
ATTACH;FMTTYPE=image/jpeg:https://www.sonskladno.cz/wp-content/uploads/2024/02/IMG_8179-scaled.jpg
ORGANIZER;CN="SONS Kladno":MAILTO:kladno-odbocka@sons.cz
END:VEVENT
BEGIN:VEVENT
DTSTART;TZID=Europe/Prague:20240318T150000
DTEND;TZID=Europe/Prague:20240318T170000
DTSTAMP:20260420T024756
CREATED:20240306T100419Z
LAST-MODIFIED:20240306T100419Z
UID:507-1710774000-1710781200@www.sonskladno.cz
SUMMARY:Trénink paměti s paní Terezou Cimburkovou
DESCRIPTION:Jak pracovat s pamětí\, jak ji nejen udržet\, ale především aktivně procvičovat a posilovat\, nám přijde povídat a ukázat paní Tereza Cimburková ze Středočeské vědecké knihovny v Kladně.
URL:https://www.sonskladno.cz/event/trenink-pameti-s-pani-terezou-cimburkovou/
LOCATION:SONS Kladno\, Hřebečská 2678\, Kladno\, Středočeský\, 27201\, Česká republika
CATEGORIES:Akce
ATTACH;FMTTYPE=image/webp:https://www.sonskladno.cz/wp-content/uploads/2024/03/IMG_8467-scaled.webp
ORGANIZER;CN="SONS Kladno":MAILTO:kladno-odbocka@sons.cz
END:VEVENT
BEGIN:VEVENT
DTSTART;TZID=Europe/Prague:20240219T150000
DTEND;TZID=Europe/Prague:20240219T170000
DTSTAMP:20260420T024756
CREATED:20240114T080614Z
LAST-MODIFIED:20240114T080614Z
UID:478-1708354800-1708362000@www.sonskladno.cz
SUMMARY:Trénink paměti
DESCRIPTION:pondělí 19. února 2024\, od 15:00 hodin\, sídlo odbočky\nJak pracovat s pamětí\, jak ji nejen udržet\, ale především aktivně procvičovat a posilovat\, nám přijde povídat a ukázat paní Tereza Cimburková ze Středočeské vědecké knihovny v Kladně.
URL:https://www.sonskladno.cz/event/trenink-pameti/
LOCATION:SONS Kladno\, Hřebečská 2678\, Kladno\, Středočeský\, 27201\, Česká republika
CATEGORIES:Akce
ATTACH;FMTTYPE=image/jpeg:https://www.sonskladno.cz/wp-content/uploads/2024/01/20150212_142518-scaled.jpg
ORGANIZER;CN="SONS Kladno":MAILTO:kladno-odbocka@sons.cz
END:VEVENT
BEGIN:VEVENT
DTSTART;TZID=Europe/Prague:20240210T140000
DTEND;TZID=Europe/Prague:20240210T170000
DTSTAMP:20260420T024756
CREATED:20240114T080345Z
LAST-MODIFIED:20240125T154543Z
UID:475-1707573600-1707584400@www.sonskladno.cz
SUMMARY:Změna - Turnaj šipek
DESCRIPTION:Vážení přátelé\, \npan Tomáš Trnka\, který nám zajišťuje zvukovou střelbu\, k nám bohužel z technických osobních důvodů v sobotu 10. února 2024 nebude moci přijet. Plánovaná akce se proto ruší. Dle informace pana Trnky je předpoklad nejdříve možného termínu na konci března. Pan Trnka děkuje za pochopení\, jakmile bude termín vědět\, ozve se\, domluvíme se a včas se termín dozvíte. \nS pozdravem a přáním hezkého dne \nPetra Kaštánková \nsobota 10. února 2024\, od 14:00 hodin\, sídlo odbočky\nAkce proběhne opět díky spolupráci odbočky s panem Tomášem Trnkou s organizace TJ ZORA Praha z. s.. Tentokrát jsme byli panem Trnkou vyzváni k vytvoření minimálně tří dvojic\, čeká nás tedy soutěžní a motivační odpoledne.
URL:https://www.sonskladno.cz/event/zvukova-strelba-2/
LOCATION:SONS Kladno\, Hřebečská 2678\, Kladno\, Středočeský\, 27201\, Česká republika
CATEGORIES:Akce
ATTACH;FMTTYPE=image/jpeg:https://www.sonskladno.cz/wp-content/uploads/2024/01/IMG_8048-scaled.jpg
ORGANIZER;CN="SONS Kladno":MAILTO:kladno-odbocka@sons.cz
END:VEVENT
BEGIN:VEVENT
DTSTART;TZID=Europe/Prague:20240125T140000
DTEND;TZID=Europe/Prague:20240125T160000
DTSTAMP:20260420T024756
CREATED:20231215T160659Z
LAST-MODIFIED:20231215T160659Z
UID:471-1706191200-1706198400@www.sonskladno.cz
SUMMARY:Beseda
DESCRIPTION:čtvrtek 25. ledna 2024\, od 14:00 hodin\, sídlo odbočky\nHostem této besedy bude Ing. Edita Jelínková\, sociální pracovnice a koordinátorka dobrovolnických programů z organizace Dobrovolnické centrum Kladno\, z. s.
URL:https://www.sonskladno.cz/event/beseda/
LOCATION:SONS Kladno\, Hřebečská 2678\, Kladno\, Středočeský\, 27201\, Česká republika
CATEGORIES:Akce
ATTACH;FMTTYPE=image/jpeg:https://www.sonskladno.cz/wp-content/uploads/2023/12/IMG_7973-scaled.jpg
ORGANIZER;CN="SONS Kladno":MAILTO:kladno-odbocka@sons.cz
END:VEVENT
BEGIN:VEVENT
DTSTART;TZID=Europe/Prague:20240114T140000
DTEND;TZID=Europe/Prague:20240114T160000
DTSTAMP:20260420T024756
CREATED:20231206T104449Z
LAST-MODIFIED:20231206T104449Z
UID:464-1705240800-1705248000@www.sonskladno.cz
SUMMARY:Bowling
DESCRIPTION:Každoroční turnaj v Bowlingu\, který se koná od 14:00 v Kantýně Poldi v Central Kladno.
URL:https://www.sonskladno.cz/event/bowling/
LOCATION:Kantýna Poldi\, Petra Bezruče 3388\, Kladno\, Středočeský\, 27201\, Česká republika
CATEGORIES:Akce
ATTACH;FMTTYPE=image/jpeg:https://www.sonskladno.cz/wp-content/uploads/2023/12/bowlingkladno.jpeg
ORGANIZER;CN="SONS Kladno":MAILTO:kladno-odbocka@sons.cz
END:VEVENT
BEGIN:VEVENT
DTSTART;TZID=Europe/Prague:20231221T140000
DTEND;TZID=Europe/Prague:20231221T170000
DTSTAMP:20260420T024756
CREATED:20230731T111326Z
LAST-MODIFIED:20230731T111326Z
UID:315-1703167200-1703178000@www.sonskladno.cz
SUMMARY:Vánoční posezení
DESCRIPTION:21.12.2023 (čtvrtek) Vánoční posezení\, sídlo odbočky\, od 14:00hod.
URL:https://www.sonskladno.cz/event/vanocni-posezeni/
LOCATION:SONS Kladno\, Hřebečská 2678\, Kladno\, Středočeský\, 27201\, Česká republika
CATEGORIES:Akce
ATTACH;FMTTYPE=image/jpeg:https://www.sonskladno.cz/wp-content/uploads/2023/07/PC130017.jpg
ORGANIZER;CN="SONS Kladno":MAILTO:kladno-odbocka@sons.cz
END:VEVENT
BEGIN:VEVENT
DTSTART;TZID=Europe/Prague:20231201T170000
DTEND;TZID=Europe/Prague:20231201T200000
DTSTAMP:20260420T024756
CREATED:20230731T110813Z
LAST-MODIFIED:20230731T111626Z
UID:311-1701450000-1701460800@www.sonskladno.cz
SUMMARY:Mikulášská zábava u Matěje
DESCRIPTION:1.12.2023 (pátek) Mikulášská zábava u Matěje\, od 17:00 hod.\nzajištěna hudba – naše známá paní Dáša s kapelou\, vstupné 50\,- Kč
URL:https://www.sonskladno.cz/event/mikulasska-zabava-u-mateje/
LOCATION:Pivnice u Matěje\, Hřeběčská 2716\, Kladno\, Středočeský\, 27201\, Česká republika
CATEGORIES:Akce
ATTACH;FMTTYPE=image/jpeg:https://www.sonskladno.cz/wp-content/uploads/2023/07/pivniceumateje.jpg
ORGANIZER;CN="SONS Kladno":MAILTO:kladno-odbocka@sons.cz
END:VEVENT
BEGIN:VEVENT
DTSTART;TZID=Europe/Prague:20231123T140000
DTEND;TZID=Europe/Prague:20231123T170000
DTSTAMP:20260420T024756
CREATED:20230731T110355Z
LAST-MODIFIED:20231122T173741Z
UID:309-1700748000-1700758800@www.sonskladno.cz
SUMMARY:Beseda s Ing. Josefem Purkrtem - PŘESUNUTO NA ROK 2024
DESCRIPTION:ZE ZDRAVOTNÍCH A OSOBNÍCH DŮVODŮ JE TATO AKCE PŘESUNUTA NA ROK 2024\, PŘESNÝ TERMÍN BUDE UPŘESNĚN. \n23.11.2023(čtvrtek) od 14:00 hod. beseda s Ing. Josefem Purkrtem\, předsedou záhadologického spolku FFC\,z.s.
URL:https://www.sonskladno.cz/event/beseda-s-ing-josefem-purkrtem/
LOCATION:SONS Kladno\, Hřebečská 2678\, Kladno\, Středočeský\, 27201\, Česká republika
CATEGORIES:Akce
ATTACH;FMTTYPE=image/jpeg:https://www.sonskladno.cz/wp-content/uploads/2023/07/2023-02-Beseda-o-Turkmenistanu-scaled.jpg
ORGANIZER;CN="SONS Kladno":MAILTO:kladno-odbocka@sons.cz
END:VEVENT
BEGIN:VEVENT
DTSTART;TZID=Europe/Prague:20231106T100000
DTEND;TZID=Europe/Prague:20231106T150000
DTSTAMP:20260420T024756
CREATED:20231024T115536Z
LAST-MODIFIED:20231024T115915Z
UID:305-1699264800-1699282800@www.sonskladno.cz
SUMMARY:Den otevřených dveří
DESCRIPTION:Program: povídání se členy odbočky\, seznámení s činností odbočky\, možnost vyzkoušení chůze s bílou holí\, ukázka kompenzačních pomůcek pro nevidomé a slabozraké \nPřijďte\, těšíme se na Vás!
URL:https://www.sonskladno.cz/event/den-otevrenych-dveri/
LOCATION:SONS Kladno\, Hřebečská 2678\, Kladno\, Středočeský\, 27201\, Česká republika
CATEGORIES:Akce
ATTACH;FMTTYPE=image/jpeg:https://www.sonskladno.cz/wp-content/uploads/2023/10/20231016_085943-scaled.jpg
ORGANIZER;CN="SONS Kladno":MAILTO:kladno-odbocka@sons.cz
END:VEVENT
END:VCALENDAR