BEGIN:VCALENDAR
VERSION:2.0
PRODID:-//SONS Kladno - ECPv6.15.17.1//NONSGML v1.0//EN
CALSCALE:GREGORIAN
METHOD:PUBLISH
X-WR-CALNAME:SONS Kladno
X-ORIGINAL-URL:https://www.sonskladno.cz
X-WR-CALDESC:Akce na SONS Kladno
REFRESH-INTERVAL;VALUE=DURATION:PT1H
X-Robots-Tag:noindex
X-PUBLISHED-TTL:PT1H
BEGIN:VTIMEZONE
TZID:Europe/Prague
BEGIN:DAYLIGHT
TZOFFSETFROM:+0100
TZOFFSETTO:+0200
TZNAME:CEST
DTSTART:20250330T010000
END:DAYLIGHT
BEGIN:STANDARD
TZOFFSETFROM:+0200
TZOFFSETTO:+0100
TZNAME:CET
DTSTART:20251026T010000
END:STANDARD
BEGIN:DAYLIGHT
TZOFFSETFROM:+0100
TZOFFSETTO:+0200
TZNAME:CEST
DTSTART:20260329T010000
END:DAYLIGHT
BEGIN:STANDARD
TZOFFSETFROM:+0200
TZOFFSETTO:+0100
TZNAME:CET
DTSTART:20261025T010000
END:STANDARD
BEGIN:DAYLIGHT
TZOFFSETFROM:+0100
TZOFFSETTO:+0200
TZNAME:CEST
DTSTART:20270328T010000
END:DAYLIGHT
BEGIN:STANDARD
TZOFFSETFROM:+0200
TZOFFSETTO:+0100
TZNAME:CET
DTSTART:20271031T010000
END:STANDARD
END:VTIMEZONE
BEGIN:VEVENT
DTSTART;TZID=Europe/Prague:20260223T150000
DTEND;TZID=Europe/Prague:20260223T160000
DTSTAMP:20260420T031123
CREATED:20260128T133644Z
LAST-MODIFIED:20260128T133644Z
UID:1200-1771858800-1771862400@www.sonskladno.cz
SUMMARY:Trénink paměti s paní Terezou Cimburkovou
DESCRIPTION:23. 02. – pondělí\, 15:00 hodin\, sídlo SONS Kladno\nTrénink paměti s paní Terezou Cimburkovou
URL:https://www.sonskladno.cz/event/trenink-pameti-s-pani-terezou-cimburkovou-13/
LOCATION:SONS Kladno\, Hřebečská 2678\, Kladno\, Středočeský\, 27201\, Česká republika
CATEGORIES:Akce
ATTACH;FMTTYPE=image/jpeg:https://www.sonskladno.cz/wp-content/uploads/2024/09/IMG_2862-scaled.jpg
ORGANIZER;CN="SONS Kladno":MAILTO:kladno-odbocka@sons.cz
END:VEVENT
BEGIN:VEVENT
DTSTART;TZID=Europe/Prague:20260319T140000
DTEND;TZID=Europe/Prague:20260319T160000
DTSTAMP:20260420T031123
CREATED:20260302T092918Z
LAST-MODIFIED:20260302T092918Z
UID:1225-1773928800-1773936000@www.sonskladno.cz
SUMMARY:Šipky
DESCRIPTION:19. 03. – čtvrtek\, 14:00 hodin\, sídlo SONS Kladno\nŠipky
URL:https://www.sonskladno.cz/event/sipky-2/
LOCATION:SONS Kladno\, Hřebečská 2678\, Kladno\, Středočeský\, 27201\, Česká republika
CATEGORIES:Akce
ATTACH;FMTTYPE=image/jpeg:https://www.sonskladno.cz/wp-content/uploads/2024/01/IMG_8048-scaled.jpg
ORGANIZER;CN="SONS Kladno":MAILTO:kladno-odbocka@sons.cz
END:VEVENT
BEGIN:VEVENT
DTSTART;TZID=Europe/Prague:20260330T150000
DTEND;TZID=Europe/Prague:20260330T160000
DTSTAMP:20260420T031123
CREATED:20260302T093043Z
LAST-MODIFIED:20260302T093043Z
UID:1227-1774882800-1774886400@www.sonskladno.cz
SUMMARY:Trénink paměti
DESCRIPTION:30. 03. – pondělí\, 15:00 hodin\, sídlo SONS Kladno\nTrénink paměti s paní Terezou Cimburkovou
URL:https://www.sonskladno.cz/event/trenink-pameti-5/
LOCATION:Středočeský
CATEGORIES:Akce
ATTACH;FMTTYPE=image/jpeg:https://www.sonskladno.cz/wp-content/uploads/2024/09/IMG_2862-scaled.jpg
END:VEVENT
BEGIN:VEVENT
DTSTART;TZID=Europe/Prague:20260402T140000
DTEND;TZID=Europe/Prague:20260402T160000
DTSTAMP:20260420T031123
CREATED:20260317T101428Z
LAST-MODIFIED:20260317T101428Z
UID:1240-1775138400-1775145600@www.sonskladno.cz
SUMMARY:Velikonoční posezení
DESCRIPTION:02. 04. – čtvrtek\, od 14:00 hodin\, sídlo SONS Kladno\nVelikonoční posezení
URL:https://www.sonskladno.cz/event/velikonocni-posezeni-2/
LOCATION:SONS Kladno\, Hřebečská 2678\, Kladno\, Středočeský\, 27201\, Česká republika
CATEGORIES:Akce
ATTACH;FMTTYPE=image/jpeg:https://www.sonskladno.cz/wp-content/uploads/2023/07/IMG-20230205-WA0003.jpg
ORGANIZER;CN="SONS Kladno":MAILTO:kladno-odbocka@sons.cz
END:VEVENT
BEGIN:VEVENT
DTSTART;TZID=Europe/Prague:20260416T140000
DTEND;TZID=Europe/Prague:20260416T160000
DTSTAMP:20260420T031123
CREATED:20260317T101634Z
LAST-MODIFIED:20260317T101634Z
UID:1242-1776348000-1776355200@www.sonskladno.cz
SUMMARY:Sportovní odpoledne
DESCRIPTION:16. 04. – čtvrtek\, 14:00 hodin\, sídlo SONS Kladno\nSportovní odpoledne
URL:https://www.sonskladno.cz/event/sportovni-odpoledne/
LOCATION:SONS Kladno\, Hřebečská 2678\, Kladno\, Středočeský\, 27201\, Česká republika
CATEGORIES:Akce
ATTACH;FMTTYPE=image/jpeg:https://www.sonskladno.cz/wp-content/uploads/2024/10/IMG_3092_1-scaled.jpg
ORGANIZER;CN="SONS Kladno":MAILTO:kladno-odbocka@sons.cz
END:VEVENT
BEGIN:VEVENT
DTSTART;TZID=Europe/Prague:20260427T150000
DTEND;TZID=Europe/Prague:20260427T160000
DTSTAMP:20260420T031123
CREATED:20260317T101741Z
LAST-MODIFIED:20260317T101741Z
UID:1244-1777302000-1777305600@www.sonskladno.cz
SUMMARY:Trénink paměti s paní Terezou Cimburkovou
DESCRIPTION:27. 04. – pondělí\, 15:00 hodin\, sídlo SONS Kladno\nTrénink paměti s paní Terezou Cimburkovou
URL:https://www.sonskladno.cz/event/trenink-pameti-s-pani-terezou-cimburkovou-14/
LOCATION:SONS Kladno\, Hřebečská 2678\, Kladno\, Středočeský\, 27201\, Česká republika
CATEGORIES:Akce
ATTACH;FMTTYPE=image/jpeg:https://www.sonskladno.cz/wp-content/uploads/2024/09/IMG_2862-scaled.jpg
ORGANIZER;CN="SONS Kladno":MAILTO:kladno-odbocka@sons.cz
END:VEVENT
END:VCALENDAR