BEGIN:VCALENDAR
VERSION:2.0
PRODID:-//SONS Kladno - ECPv6.15.17.1//NONSGML v1.0//EN
CALSCALE:GREGORIAN
METHOD:PUBLISH
X-ORIGINAL-URL:https://www.sonskladno.cz
X-WR-CALDESC:Akce na SONS Kladno
REFRESH-INTERVAL;VALUE=DURATION:PT1H
X-Robots-Tag:noindex
X-PUBLISHED-TTL:PT1H
BEGIN:VTIMEZONE
TZID:Europe/Prague
BEGIN:DAYLIGHT
TZOFFSETFROM:+0100
TZOFFSETTO:+0200
TZNAME:CEST
DTSTART:20250330T010000
END:DAYLIGHT
BEGIN:STANDARD
TZOFFSETFROM:+0200
TZOFFSETTO:+0100
TZNAME:CET
DTSTART:20251026T010000
END:STANDARD
BEGIN:DAYLIGHT
TZOFFSETFROM:+0100
TZOFFSETTO:+0200
TZNAME:CEST
DTSTART:20260329T010000
END:DAYLIGHT
BEGIN:STANDARD
TZOFFSETFROM:+0200
TZOFFSETTO:+0100
TZNAME:CET
DTSTART:20261025T010000
END:STANDARD
BEGIN:DAYLIGHT
TZOFFSETFROM:+0100
TZOFFSETTO:+0200
TZNAME:CEST
DTSTART:20270328T010000
END:DAYLIGHT
BEGIN:STANDARD
TZOFFSETFROM:+0200
TZOFFSETTO:+0100
TZNAME:CET
DTSTART:20271031T010000
END:STANDARD
END:VTIMEZONE
BEGIN:VEVENT
DTSTART;TZID=Europe/Prague:20260126T150000
DTEND;TZID=Europe/Prague:20260126T160000
DTSTAMP:20260420T024759
CREATED:20251219T110627Z
LAST-MODIFIED:20251219T110627Z
UID:1192-1769439600-1769443200@www.sonskladno.cz
SUMMARY:Trénink paměti s paní Terezou Cimburkovou
DESCRIPTION:Trénink paměti s paní Terezou Cimburkovou
URL:https://www.sonskladno.cz/event/trenink-pameti-s-pani-terezou-cimburkovou-12/
LOCATION:SONS Kladno\, Hřebečská 2678\, Kladno\, Středočeský\, 27201\, Česká republika
CATEGORIES:Akce
ATTACH;FMTTYPE=image/jpeg:https://www.sonskladno.cz/wp-content/uploads/2024/09/IMG_2862-scaled.jpg
ORGANIZER;CN="SONS Kladno":MAILTO:kladno-odbocka@sons.cz
END:VEVENT
END:VCALENDAR