BEGIN:VCALENDAR
VERSION:2.0
PRODID:-//SONS Kladno - ECPv6.15.17.1//NONSGML v1.0//EN
CALSCALE:GREGORIAN
METHOD:PUBLISH
X-WR-CALNAME:SONS Kladno
X-ORIGINAL-URL:https://www.sonskladno.cz
X-WR-CALDESC:Akce na SONS Kladno
REFRESH-INTERVAL;VALUE=DURATION:PT1H
X-Robots-Tag:noindex
X-PUBLISHED-TTL:PT1H
BEGIN:VTIMEZONE
TZID:Europe/Prague
BEGIN:DAYLIGHT
TZOFFSETFROM:+0100
TZOFFSETTO:+0200
TZNAME:CEST
DTSTART:20240331T010000
END:DAYLIGHT
BEGIN:STANDARD
TZOFFSETFROM:+0200
TZOFFSETTO:+0100
TZNAME:CET
DTSTART:20241027T010000
END:STANDARD
BEGIN:DAYLIGHT
TZOFFSETFROM:+0100
TZOFFSETTO:+0200
TZNAME:CEST
DTSTART:20250330T010000
END:DAYLIGHT
BEGIN:STANDARD
TZOFFSETFROM:+0200
TZOFFSETTO:+0100
TZNAME:CET
DTSTART:20251026T010000
END:STANDARD
BEGIN:DAYLIGHT
TZOFFSETFROM:+0100
TZOFFSETTO:+0200
TZNAME:CEST
DTSTART:20260329T010000
END:DAYLIGHT
BEGIN:STANDARD
TZOFFSETFROM:+0200
TZOFFSETTO:+0100
TZNAME:CET
DTSTART:20261025T010000
END:STANDARD
END:VTIMEZONE
BEGIN:VEVENT
DTSTART;TZID=Europe/Prague:20251103T110000
DTEND;TZID=Europe/Prague:20251103T140000
DTSTAMP:20260422T125708
CREATED:20251008T125816Z
LAST-MODIFIED:20251008T125816Z
UID:1145-1762167600-1762178400@www.sonskladno.cz
SUMMARY:Den otevřených dveří
DESCRIPTION:Dne 3. 11. 2025 od 11:00 do 14:00 se v Hřebečské 2678 otevírají dveře SONS Kladno široké veřejnosti. \nPojďte se seznámit co obnáší život bez zraku a jak pomáhá organizace nevidomých a slabozrakých. Na místě vás seznámíme s pomůckami\, které u nevidomých můžete běžně spatřit. Můžete si vyzkoušet chůzi s bílou holí. A určitě vás obohatí i rozhovor s našimi členy\, kteří rádi zodpoví vaše dotazy. Máte-li zrakové postížení\, rádi vás uvítáme mezi námi. \nTěšíme se na Vaši návštěvu.
URL:https://www.sonskladno.cz/event/den-otevrenych-dveri-3/
LOCATION:SONS Kladno\, Hřebečská 2678\, Kladno\, Středočeský\, 27201\, Česká republika
CATEGORIES:Akce
ATTACH;FMTTYPE=image/png:https://www.sonskladno.cz/wp-content/uploads/2025/10/Denotevrenychdveri2025-A4-scaled.png
ORGANIZER;CN="SONS Kladno":MAILTO:kladno-odbocka@sons.cz
END:VEVENT
END:VCALENDAR