BEGIN:VCALENDAR
VERSION:2.0
PRODID:-//SONS Kladno - ECPv6.15.20//NONSGML v1.0//EN
CALSCALE:GREGORIAN
METHOD:PUBLISH
X-ORIGINAL-URL:https://www.sonskladno.cz
X-WR-CALDESC:Akce na SONS Kladno
REFRESH-INTERVAL;VALUE=DURATION:PT1H
X-Robots-Tag:noindex
X-PUBLISHED-TTL:PT1H
BEGIN:VTIMEZONE
TZID:Europe/Prague
BEGIN:DAYLIGHT
TZOFFSETFROM:+0100
TZOFFSETTO:+0200
TZNAME:CEST
DTSTART:20240331T010000
END:DAYLIGHT
BEGIN:STANDARD
TZOFFSETFROM:+0200
TZOFFSETTO:+0100
TZNAME:CET
DTSTART:20241027T010000
END:STANDARD
BEGIN:DAYLIGHT
TZOFFSETFROM:+0100
TZOFFSETTO:+0200
TZNAME:CEST
DTSTART:20250330T010000
END:DAYLIGHT
BEGIN:STANDARD
TZOFFSETFROM:+0200
TZOFFSETTO:+0100
TZNAME:CET
DTSTART:20251026T010000
END:STANDARD
BEGIN:DAYLIGHT
TZOFFSETFROM:+0100
TZOFFSETTO:+0200
TZNAME:CEST
DTSTART:20260329T010000
END:DAYLIGHT
BEGIN:STANDARD
TZOFFSETFROM:+0200
TZOFFSETTO:+0100
TZNAME:CET
DTSTART:20261025T010000
END:STANDARD
END:VTIMEZONE
BEGIN:VEVENT
DTSTART;TZID=Europe/Prague:20250126T140000
DTEND;TZID=Europe/Prague:20250126T160000
DTSTAMP:20260423T081024
CREATED:20241225T090134Z
LAST-MODIFIED:20250114T065245Z
UID:956-1737900000-1737907200@www.sonskladno.cz
SUMMARY:Bowling
DESCRIPTION:neděle\, 14:00 hodin\, Kantýna Poldi restaurace & bowling\, Central Kladno\nBowling
URL:https://www.sonskladno.cz/event/bowling-3/
LOCATION:Kantýna Poldi\, Petra Bezruče 3388\, Kladno\, Středočeský\, 27201\, Česká republika
CATEGORIES:Akce
ATTACH;FMTTYPE=image/jpeg:https://www.sonskladno.cz/wp-content/uploads/2023/12/bowlingkladno.jpeg
ORGANIZER;CN="SONS Kladno":MAILTO:kladno-odbocka@sons.cz
END:VEVENT
BEGIN:VEVENT
DTSTART;TZID=Europe/Prague:20250127T150000
DTEND;TZID=Europe/Prague:20250127T160000
DTSTAMP:20260423T081024
CREATED:20241225T090430Z
LAST-MODIFIED:20241225T090430Z
UID:958-1737990000-1737993600@www.sonskladno.cz
SUMMARY:Trénink paměti s paní Terezou Cimburkovou
DESCRIPTION:pondělí\, 15:00 hodin\, sídlo SONS Kladno\nTrénink paměti s paní Terezou Cimburkovou
URL:https://www.sonskladno.cz/event/trenink-pameti-s-pani-terezou-cimburkovou-9/
LOCATION:SONS Kladno\, Hřebečská 2678\, Kladno\, Středočeský\, 27201\, Česká republika
CATEGORIES:Akce
ATTACH;FMTTYPE=image/jpeg:https://www.sonskladno.cz/wp-content/uploads/2024/09/IMG_2862-scaled.jpg
ORGANIZER;CN="SONS Kladno":MAILTO:kladno-odbocka@sons.cz
END:VEVENT
END:VCALENDAR