BEGIN:VCALENDAR
VERSION:2.0
PRODID:-//SONS Kladno - ECPv6.15.20//NONSGML v1.0//EN
CALSCALE:GREGORIAN
METHOD:PUBLISH
X-WR-CALNAME:SONS Kladno
X-ORIGINAL-URL:https://www.sonskladno.cz
X-WR-CALDESC:Akce na SONS Kladno
REFRESH-INTERVAL;VALUE=DURATION:PT1H
X-Robots-Tag:noindex
X-PUBLISHED-TTL:PT1H
BEGIN:VTIMEZONE
TZID:Europe/Prague
BEGIN:DAYLIGHT
TZOFFSETFROM:+0100
TZOFFSETTO:+0200
TZNAME:CEST
DTSTART:20240331T010000
END:DAYLIGHT
BEGIN:STANDARD
TZOFFSETFROM:+0200
TZOFFSETTO:+0100
TZNAME:CET
DTSTART:20241027T010000
END:STANDARD
BEGIN:DAYLIGHT
TZOFFSETFROM:+0100
TZOFFSETTO:+0200
TZNAME:CEST
DTSTART:20250330T010000
END:DAYLIGHT
BEGIN:STANDARD
TZOFFSETFROM:+0200
TZOFFSETTO:+0100
TZNAME:CET
DTSTART:20251026T010000
END:STANDARD
BEGIN:DAYLIGHT
TZOFFSETFROM:+0100
TZOFFSETTO:+0200
TZNAME:CEST
DTSTART:20260329T010000
END:DAYLIGHT
BEGIN:STANDARD
TZOFFSETFROM:+0200
TZOFFSETTO:+0100
TZNAME:CET
DTSTART:20261025T010000
END:STANDARD
END:VTIMEZONE
BEGIN:VEVENT
DTSTART;VALUE=DATE:20251013
DTEND;VALUE=DATE:20251016
DTSTAMP:20260422T180519
CREATED:20250910T132904Z
LAST-MODIFIED:20250910T132904Z
UID:1116-1760313600-1760572799@www.sonskladno.cz
SUMMARY:26. ročník sbírkových dnů Bílé pastelky
DESCRIPTION:Jako každý rok\, tak i letos můžete v ulicích města Kladna potkat dvojice prodávající bílou pastelku.
URL:https://www.sonskladno.cz/event/26-rocnik-sbirkovych-dnu-bile-pastelky/
LOCATION:SONS Kladno\, Hřebečská 2678\, Kladno\, Středočeský\, 27201\, Česká republika
CATEGORIES:Akce
ATTACH;FMTTYPE=image/webp:https://www.sonskladno.cz/wp-content/uploads/2024/07/20273_Bila_pastelka_Logo_2024_final-7.webp
ORGANIZER;CN="SONS Kladno":MAILTO:kladno-odbocka@sons.cz
END:VEVENT
BEGIN:VEVENT
DTSTART;TZID=Europe/Prague:20251020T150000
DTEND;TZID=Europe/Prague:20251020T160000
DTSTAMP:20260422T180519
CREATED:20250910T133454Z
LAST-MODIFIED:20250929T182017Z
UID:1120-1760972400-1760976000@www.sonskladno.cz
SUMMARY:Trénink paměti s paní Terezou Cimburkovou
DESCRIPTION:pondělí\, 15:00 hodin\, sídlo SONS Kladno\, Trénink paměti s paní Terezou Cimburkovou
URL:https://www.sonskladno.cz/event/trenink-pameti-s-pani-terezou-cimburkovou-11/
LOCATION:SONS Kladno\, Hřebečská 2678\, Kladno\, Středočeský\, 27201\, Česká republika
CATEGORIES:Akce
ATTACH;FMTTYPE=image/jpeg:https://www.sonskladno.cz/wp-content/uploads/2024/09/IMG_2862-scaled.jpg
ORGANIZER;CN="SONS Kladno":MAILTO:kladno-odbocka@sons.cz
END:VEVENT
BEGIN:VEVENT
DTSTART;TZID=Europe/Prague:20251023T140000
DTEND;TZID=Europe/Prague:20251023T170000
DTSTAMP:20260422T180519
CREATED:20250910T133248Z
LAST-MODIFIED:20250910T133248Z
UID:1118-1761228000-1761238800@www.sonskladno.cz
SUMMARY:Beseda o Ayurvédě
DESCRIPTION:Beseda – téma duševní zdraví\, ayurvéda – Lenka Švandrlíková\, DiS.
URL:https://www.sonskladno.cz/event/beseda-o-ayurvede/
LOCATION:SONS Kladno\, Hřebečská 2678\, Kladno\, Středočeský\, 27201\, Česká republika
CATEGORIES:Akce
ATTACH;FMTTYPE=image/jpeg:https://www.sonskladno.cz/wp-content/uploads/2023/07/IMG-20230205-WA0003.jpg
ORGANIZER;CN="SONS Kladno":MAILTO:kladno-odbocka@sons.cz
END:VEVENT
BEGIN:VEVENT
DTSTART;TZID=Europe/Prague:20251030T140000
DTEND;TZID=Europe/Prague:20251030T170000
DTSTAMP:20260422T180519
CREATED:20250910T134203Z
LAST-MODIFIED:20250910T134406Z
UID:1122-1761832800-1761843600@www.sonskladno.cz
SUMMARY:Dušičkové posezení
DESCRIPTION:V tento čas se členové schází\, aby zavzpomínali na ty\, co již nejsou mezi námi.
URL:https://www.sonskladno.cz/event/dusickove-posezeni-2/
LOCATION:SONS Kladno\, Hřebečská 2678\, Kladno\, Středočeský\, 27201\, Česká republika
CATEGORIES:Akce
ATTACH;FMTTYPE=image/png:https://www.sonskladno.cz/wp-content/uploads/2025/09/na-stole-stoj-zapalen-sv-ky-mal-k-ek-v-poz.png
ORGANIZER;CN="SONS Kladno":MAILTO:kladno-odbocka@sons.cz
END:VEVENT
END:VCALENDAR