BEGIN:VCALENDAR
VERSION:2.0
PRODID:-//SONS Kladno - ECPv6.15.20//NONSGML v1.0//EN
CALSCALE:GREGORIAN
METHOD:PUBLISH
X-WR-CALNAME:SONS Kladno
X-ORIGINAL-URL:https://www.sonskladno.cz
X-WR-CALDESC:Akce na SONS Kladno
REFRESH-INTERVAL;VALUE=DURATION:PT1H
X-Robots-Tag:noindex
X-PUBLISHED-TTL:PT1H
BEGIN:VTIMEZONE
TZID:Europe/Prague
BEGIN:DAYLIGHT
TZOFFSETFROM:+0100
TZOFFSETTO:+0200
TZNAME:CEST
DTSTART:20230326T010000
END:DAYLIGHT
BEGIN:STANDARD
TZOFFSETFROM:+0200
TZOFFSETTO:+0100
TZNAME:CET
DTSTART:20231029T010000
END:STANDARD
BEGIN:DAYLIGHT
TZOFFSETFROM:+0100
TZOFFSETTO:+0200
TZNAME:CEST
DTSTART:20240331T010000
END:DAYLIGHT
BEGIN:STANDARD
TZOFFSETFROM:+0200
TZOFFSETTO:+0100
TZNAME:CET
DTSTART:20241027T010000
END:STANDARD
BEGIN:DAYLIGHT
TZOFFSETFROM:+0100
TZOFFSETTO:+0200
TZNAME:CEST
DTSTART:20250330T010000
END:DAYLIGHT
BEGIN:STANDARD
TZOFFSETFROM:+0200
TZOFFSETTO:+0100
TZNAME:CET
DTSTART:20251026T010000
END:STANDARD
END:VTIMEZONE
BEGIN:VEVENT
DTSTART;TZID=Europe/Prague:20240903T160000
DTEND;TZID=Europe/Prague:20240903T170000
DTSTAMP:20260424T025606
CREATED:20240902T184747Z
LAST-MODIFIED:20240902T184747Z
UID:658-1725379200-1725382800@www.sonskladno.cz
SUMMARY:Zasedání Oblastního shromáždění Oblastní odbočky Kladno
DESCRIPTION:Vážení přátelé\, \nzveme všechny na zasedání našeho oblastního shromáždění. Prosíme o dřívější příchod v cca 15:30 hodin z důvodu vyřízení organizačních formalit před oficiálním zahájením programu. \nDěkujeme a těšíme se na viděnou. \n 
URL:https://www.sonskladno.cz/event/zasedani-oblastniho-shromazdeni-oblastni-odbocky-kladno/
LOCATION:Hotel Kladno\, náměstí Sítná 3113\, Kladno\, Středočeský\, 27201\, Česká republika
ORGANIZER;CN="SONS Kladno":MAILTO:kladno-odbocka@sons.cz
END:VEVENT
END:VCALENDAR